{
 "version": 1.0,
 "tileBundlesPath": "./tile",
 "storageInfo": {
  "packetSize": 128,
  "storageFormat": "esriMapCacheStorageModeCompactV2"
 },
 "tileImageInfo": {
  "format": "PNG32",
  "compressionQuality": 0,
  "bandCount": 1,
  "lercError": 0
 },
 "tileInfo": {
  "spatialReference": {
   "wkid": 102100,
   "latestWkid": 3857
  },
  "origin": {
   "x": -2.0037508342787E7,
   "y": 2.0037508342787E7
  },
  "rows": 256,
  "cols": 256,
  "dpi": 96,
  "lods": [
   {
    "level": 0,
    "resolution": 156543.033928,
    "scale": 5.91657527591555E8
   },
   {
    "level": 1,
    "resolution": 78271.5169639999,
    "scale": 2.95828763795777E8
   },
   {
    "level": 2,
    "resolution": 39135.7584820001,
    "scale": 1.47914381897889E8
   },
   {
    "level": 3,
    "resolution": 19567.8792409999,
    "scale": 7.3957190948944E7
   },
   {
    "level": 4,
    "resolution": 9783.93962049996,
    "scale": 3.6978595474472E7
   },
   {
    "level": 5,
    "resolution": 4891.96981024998,
    "scale": 1.8489297737236E7
   },
   {
    "level": 6,
    "resolution": 2445.98490512499,
    "scale": 9244648.868618
   },
   {
    "level": 7,
    "resolution": 1222.99245256249,
    "scale": 4622324.434309
   },
   {
    "level": 8,
    "resolution": 611.49622628138,
    "scale": 2311162.217155
   },
   {
    "level": 9,
    "resolution": 305.748113140558,
    "scale": 1155581.108577
   },
   {
    "level": 10,
    "resolution": 152.874056570411,
    "scale": 577790.554289
   },
   {
    "level": 11,
    "resolution": 76.4370282850732,
    "scale": 288895.277144
   },
   {
    "level": 12,
    "resolution": 38.2185141425366,
    "scale": 144447.638572
   },
   {
    "level": 13,
    "resolution": 19.1092570712683,
    "scale": 72223.819286
   },
   {
    "level": 14,
    "resolution": 9.55462853563415,
    "scale": 36111.909643
   },
   {
    "level": 15,
    "resolution": 4.77731426794937,
    "scale": 18055.954822
   },
   {
    "level": 16,
    "resolution": 2.38865713397468,
    "scale": 9027.977411
   },
   {
    "level": 17,
    "resolution": 1.19432856685505,
    "scale": 4513.988705
   },
   {
    "level": 18,
    "resolution": 0.597164283559817,
    "scale": 2256.994353
   },
   {
    "level": 19,
    "resolution": 0.298582141647617,
    "scale": 1128.497176
   },
   {
    "level": 20,
    "resolution": 0.14929107082380833,
    "scale": 564.248588
   },
   {
    "level": 21,
    "resolution": 0.07464553541190416,
    "scale": 282.124294
   },
   {
    "level": 22,
    "resolution": 0.03732276770595208,
    "scale": 141.062147
   },
   {
    "level": 23,
    "resolution": 0.01866138385297604,
    "scale": 70.5310735
   }
  ],
  "format": "PNG32",
  "compressionQuality": 0,
  "bandCount": 1,
  "lercError": 0,
  "storageFormat": "esriMapCacheStorageModeCompactV2",
  "packetSize": 128
 },
 "name": "obstaclesCartographicLayer",
 "serviceDescription": "",
 "spatialReference": {
  "wkid": 102100,
  "latestWkid": 3857,
  "xyTolerance": 0.001,
  "zTolerance": 0.001,
  "mTolerance": 0.001,
  "falseX": -20037700,
  "falseY": -30241100,
  "xyUnits": 10000,
  "falseZ": -100000,
  "zUnits": 10000,
  "falseM": -100000,
  "mUnits": 10000
 },
 "units": "esriMeters",
 "minLOD": 0,
 "maxLOD": 13,
 "resampling": true,
 "layers": [
  {
   "id": 0,
   "name": "Non-turbine Obstacle Locations",
   "parentLayerId": -1,
   "defaultVisibility": true,
   "subLayerIds": null,
   "minScale": 300000,
   "maxScale": 0,
   "type": "Feature Layer",
   "geometryType": "esriGeometryPoint",
   "supportsDynamicLegends": true,
   "legend": [
    {
     "label": "< 1000 ft AGL",
     "imageData": "iVBORw0KGgoAAAANSUhEUgAAABQAAAAUCAYAAACNiR0NAAAACXBIWXMAAA7EAAAOxAGVKw4bAAABTElEQVQ4je3QP0sCcRgH8O/zuzvD8yIIwVdQIAgRvYGgMPqjttbSkDQ0NAmRkzSUldRSQWNLQzpdhQ0NvYEEt95AERmUeeeleL+nKWi54TRa6js93+H5DF8VPxz1H/wVkEKpgwlqK1WrvFbrGQwndwxHdpZYc28AnPYM2hJRQZgEY3RgdtusX2289gAyKaKQZqYIwBFXaAsAjrsG+2f2hyRjEeBrADEGp43praJVznpu6Q2unGjysb4O0LNkmRNCiYJ5j7VAHOAzgNgXqD+9jUCIOJiPHMupIDhYDantKQbmw8ld88VEwxcoWEkw8YPeaB5C12NSdGogzhPzeVPKYQB3vkAmHiNG1gkGghCUF3Ar9ru9aRh6EYq2CmDZFwgmltR3rxqKK1udlnRh4Tb3gblClRjjXm+eoH2RSXyrqa/DusyUAJR8g93mD4KfZql+V8MksSIAAAAASUVORK5CYII=",
     "contentType": "image/png",
     "groupId": "0",
     "height": 20,
     "width": 20,
     "values": [
      999
     ],
     "layerId": 0,
     "layerName": "Non-turbine Obstacle Locations"
    },
    {
     "label": "> 1000 ft AGL",
     "imageData": "iVBORw0KGgoAAAANSUhEUgAAABQAAAAUCAYAAACNiR0NAAAACXBIWXMAAA7EAAAOxAGVKw4bAAABlElEQVQ4je3SP0iUcRzH8ff393uus+48NS6CCoL+jY6tOWSD1IXDU4OTRLtKZ+sDDYFCQ9EULYHQJsihFQQR1FJkRE25BCUEVg+IZ3rP7/ttqWgofC6Ppj7zhxefL3wjOpxoq0KldvWIU38L5HraqM9uG7RN5/GUlVDsyEIABIc66RzYRv6D/wAsFL3XoM5H4rcPxsmOsKEnRNhnauf3npqe/figvva3oPQ1S8cMG0aoGgxuRuEsJHch0bbBPXFSytZtCOM44ASKJm68d6j8JJ3nXbugtDa6jyIhBnqADMQj2i/oCAPJFI+SLDd4IL7WtbreigXpB14LdtPQk+CGTeRcb6V7IYXF3OBaMxwWkYsCL0z18pfm16fVys6ZzFgGHSXYSLV2e2ll7sJqLtDQMTOeC65ewK3sLpdGM2fP0rfNSz0Hdy2LYzDj8xhwJReIyOOI6OGnxsSHvjNTp9VsXFrc400y0bV/+karIIsW9FDuk9PG5J2fawPvxcsSaq8Avv/h/d8O+ePCX/H5yZdAbavej3wDNnyTDnJ3myMAAAAASUVORK5CYII=",
     "contentType": "image/png",
     "groupId": "0",
     "height": 20,
     "width": 20,
     "values": [
      10787
     ],
     "layerId": 0,
     "layerName": "Non-turbine Obstacle Locations"
    }
   ],
   "layerId": 0,
   "layerName": "Non-turbine Obstacle Locations",
   "serviceItemId": "ca228a32d5f14e4a9dba0431ea8eb505"
  },
  {
   "id": 1,
   "name": "Non-turbine Obstacle Avoidance Zones",
   "parentLayerId": -1,
   "defaultVisibility": true,
   "subLayerIds": null,
   "minScale": 300000,
   "maxScale": 0,
   "type": "Feature Layer",
   "geometryType": "esriGeometryPolygon",
   "supportsDynamicLegends": true,
   "legend": [
    {
     "label": "",
     "imageData": "iVBORw0KGgoAAAANSUhEUgAAABQAAAAUCAYAAACNiR0NAAAACXBIWXMAAA7EAAAOxAGVKw4bAAAAUUlEQVQ4jWPh9+k6xkAlwMjA8JYFwmCsoo6R/4tZqGMQAqAY+GFL6QFyDBHw6XbAaiA1wKiBowaOGjgMDUQuNahiIDUACyMDw1sGhv/F1DIQABlaDF88QxqsAAAAAElFTkSuQmCC",
     "contentType": "image/png",
     "groupId": "0",
     "height": 20,
     "width": 20,
     "layerId": 1,
     "layerName": "Non-turbine Obstacle Avoidance Zones"
    }
   ],
   "layerId": 1,
   "layerName": "Non-turbine Obstacle Avoidance Zones",
   "serviceItemId": "ca228a32d5f14e4a9dba0431ea8eb505"
  },
  {
   "id": 2,
   "name": "Non-turbine Obstacle Clusters",
   "parentLayerId": -1,
   "defaultVisibility": true,
   "subLayerIds": null,
   "minScale": 0,
   "maxScale": 300000,
   "type": "Feature Layer",
   "geometryType": "esriGeometryPolygon",
   "supportsDynamicLegends": true,
   "legend": [
    {
     "label": "Above 1000ft AGL",
     "imageData": "iVBORw0KGgoAAAANSUhEUgAAABQAAAAUCAYAAACNiR0NAAAACXBIWXMAAA7EAAAOxAGVKw4bAAABrUlEQVQ4jeWUPWgUURSFv/tmCpswO52NsbAVLKzEJv3O+FMkEMFKCxVMYbIrmxRGUTGzWhiwUggBq1gI7qbSYKpUFlaKjYKi2KwZSRPNzh6LuGE37E8M23mqe98777u3ODw/iJI1usjgBMZnia8AZhymwTcZW138NX+7sOnOSL0Ge2nwdNunSw63lKEfXfyTfrft9qs2YFotrLb2uSjB4NP63/MwTvJOjbXacvF7u6880hHYSULeTi1zOuDbnjdsVRg/HJZ+gbgJ3ArjuRlJ17LfW+eGzt49uvF8uvYPQJko32l2Qf7+caEpEIKDXt0vAVN7Bobxg5OSjYMAMNdYQQTNe4MrQ6fmHm+8uP6hLzDIly9IjScAUnbEmX9RUgmom7ghszFJxzy594DrC3Sm28IEWvi5XPoIzOSi5LwZl9erxWo4eu+RNr1FpNOMzPqsztZ7AoWNN+OTixIh3qTV4iFGl7wgSt5pkyStFM4A5OJkPoWJnsC2LJp9MdMrAJ6NZRaVV8j0dsdbKU7sft8zh2mlMLxr2NVe/r7A/eh/B7b+GgMBDkK+QQ00OSjgH0buqRS9p7bUAAAAAElFTkSuQmCC",
     "contentType": "image/png",
     "groupId": "0",
     "height": 20,
     "width": 20,
     "values": [
      "Above 1000ft AGL"
     ],
     "layerId": 2,
     "layerName": "Non-turbine Obstacle Clusters"
    },
    {
     "label": "Below 1000ft AGL",
     "imageData": "iVBORw0KGgoAAAANSUhEUgAAABQAAAAUCAYAAACNiR0NAAAACXBIWXMAAA7EAAAOxAGVKw4bAAABg0lEQVQ4jdXUPUtbcRTH8e9J/g2itbnRLhFbXEunoku3Dg6KN2rBFxALKh1UqImCU+hk4lRxUShUQRxaOviQgpMuHSrSd+CiBJc8ll6VG+/pYEUFhxguhf6mwzmcz3aOCduZ7/gUgby5LGTWH1KnjD/QdW6Bpa3kbj2IZc+/uhP0I/8WjMTmnqqYrtJG4iuAFcvES5vTn+oGVWUS9brpXdiOPHQa9JT3QP0gyBsgHDZnNqfBKOiTlt7Uo8K3VOXeYPPrxVZxnR8oeyCfFVVB33rBpv22WOpFbjPl3As0VWcEzyRC1YvD8xCDIuSLOeujFS1/cLRxCFitGXzcn26+8BgvZt/NAbTE0hPiUeZgzMXOrAJJRpfWWR5zawKrKnGBX5Y9PwzaWWjomGznOGTZmRXXY8YE+BnOlQbK8KUmUFT6PNEJUV6CPCNSDDhHlQcEG5//zk6fROx0Qgn0UytY3Er2/C13rnoFcIGuy/nMGrB21+5/dno3v4YvoB8xAnnQKb/APzAHgnuzTLV9AAAAAElFTkSuQmCC",
     "contentType": "image/png",
     "groupId": "0",
     "height": 20,
     "width": 20,
     "values": [
      "Below 1000ft AGL"
     ],
     "layerId": 2,
     "layerName": "Non-turbine Obstacle Clusters"
    }
   ],
   "layerId": 2,
   "layerName": "Non-turbine Obstacle Clusters",
   "serviceItemId": "ca228a32d5f14e4a9dba0431ea8eb505"
  },
  {
   "id": 3,
   "name": "Wind Turbine Locations (existing)",
   "parentLayerId": -1,
   "defaultVisibility": true,
   "subLayerIds": null,
   "minScale": 300000,
   "maxScale": 0,
   "type": "Feature Layer",
   "geometryType": "esriGeometryPoint",
   "supportsDynamicLegends": true,
   "legend": [
    {
     "label": "",
     "imageData": "iVBORw0KGgoAAAANSUhEUgAAABQAAAAUCAYAAACNiR0NAAAACXBIWXMAAA7EAAAOxAGVKw4bAAAB2ElEQVQ4jc3Tv2uTYRAH8O/d88Tk7Q/SNtoGWlxcQhFUpB3EQUEsDYgVrAj+Dy4VB6dncrBiwcWpRYo46OAQilgQMwhOrToouIiKiFbbpolJE988d44l0uaNJaDf8eHuw3NwZxGRfdkb6V8xPk4iXYXc1btR9TaqQK0yiQ9IKIiqbQkEADARoNQ+8C/SGiiqENK2gD6uZQnpHXtJtAUkT93saRjMBOeewznZFTg0eStYK272+BpnmHUUpKZ3KfFUJ2a4UNj4jLyrtwaecLYvCNKlis9Ya/YSS1XAeRIJyGM/EB7pTiaWzMTM28LhjeKfP24Au85N99sqD6qVUYJkSPmDUX0hRCmwliiMfVT1Y0b4Irj+rOdV8qU/c/NnKXflx7agrWtWWUYAWbUi9w6Wa6+XOzqPGiOXVbm8vjh1HpMPXF/l0ymBXmKEB6BYATC/LWiEiwK9E2Dz/ZcFV8kDSGWn0TDTwwt+DXiSHr++XIvFxhSc3nHk1YWpRwBhHYjcua+Pr30H3H04ALkdQKC15d2KE7jGl390ev8vOH47rqj2QtFJRDpw2vV/W3QruwaT8eqQeDoG1UFAy+GexFk4N9vsnpuCRs2AqD8EQkoVHZ74JN4MzzXr+Q2id7/N20xqQAAAAABJRU5ErkJggg==",
     "contentType": "image/png",
     "groupId": "0",
     "height": 20,
     "width": 20,
     "layerId": 3,
     "layerName": "Wind Turbine Locations (existing)"
    }
   ],
   "layerId": 3,
   "layerName": "Wind Turbine Locations (existing)",
   "serviceItemId": "ca228a32d5f14e4a9dba0431ea8eb505"
  },
  {
   "id": 4,
   "name": "Wind Turbine Locations (projected)",
   "parentLayerId": -1,
   "defaultVisibility": true,
   "subLayerIds": null,
   "minScale": 300000,
   "maxScale": 0,
   "type": "Feature Layer",
   "geometryType": "esriGeometryPoint",
   "supportsDynamicLegends": true,
   "legend": [
    {
     "label": "",
     "imageData": "iVBORw0KGgoAAAANSUhEUgAAABQAAAAUCAYAAACNiR0NAAAACXBIWXMAAA7EAAAOxAGVKw4bAAABqElEQVQ4jc3TQUuUURTG8f+58+r0zigqhs2kSGDC0CYjdREuCiJxIDJIEPoOfYXut2hVSEQbFy0GiYTIheDKyoVCFFlUzvRWEFMzKDP3nrZN6LyTDOizvDz3x71wTkBMtvNk0h1MOU9XtsBCXD+IK3QFmJonFE8Y120JBBCDANI28H/SEqgeFY+2BUwkqdRrvFHHibaAVUd3wnFODaKWVbH4Q4Gf5ghdmV7ZI6eGSRESxXWeF2cxmZ98lhXqLYF6meBLSEaq5EzASTHsCqzgCdUxLHAh6mF9e5atM2OU/31xA1i6ycDOLoMmYBLIoXwQZQ2hH8MvrfERZVo980nDi9JrXu1c5/fpAt/3BbVOHsME8APPo2yFja8pLvoEd7xSGVrmls5hi1WuAreBEVEi4OH+oKfs4F4E78eXqAKU8o0TLYs44NnbGV6mO5gWyBz45ewSTwCGiZ+50ad8s/D4rgUKB4DSAvR3LHhrG8+OZvWOL6gzJIvQh5I2gr67xsDZZaJDg1GSIRyXUAYFKqlObqjlfrN9bgrWlVMo50XoVyWFcIVNHjS78wfCmpFg99iNzQAAAABJRU5ErkJggg==",
     "contentType": "image/png",
     "groupId": "0",
     "height": 20,
     "width": 20,
     "layerId": 4,
     "layerName": "Wind Turbine Locations (projected)"
    }
   ],
   "layerId": 4,
   "layerName": "Wind Turbine Locations (projected)",
   "serviceItemId": "ca228a32d5f14e4a9dba0431ea8eb505"
  },
  {
   "id": 5,
   "name": "Wind Turbine Avoidance Zone (existing)",
   "parentLayerId": -1,
   "defaultVisibility": true,
   "subLayerIds": null,
   "minScale": 300000,
   "maxScale": 0,
   "type": "Feature Layer",
   "geometryType": "esriGeometryPolygon",
   "supportsDynamicLegends": true,
   "legend": [
    {
     "label": "",
     "imageData": "iVBORw0KGgoAAAANSUhEUgAAABQAAAAUCAYAAACNiR0NAAAACXBIWXMAAA7EAAAOxAGVKw4bAAAAT0lEQVQ4jWMR8O5cwEAtwMjwgAXCYKKSof8cWKhjEAKgGPhhS+kBcgwR8Ol2wGogNcCogaMGjho4DA1ELjWoYiA1AAsDI8MDBoZ/DtQyEACC+AvdxQvm3gAAAABJRU5ErkJggg==",
     "contentType": "image/png",
     "groupId": "0",
     "height": 20,
     "width": 20,
     "layerId": 5,
     "layerName": "Wind Turbine Avoidance Zone (existing)"
    }
   ],
   "layerId": 5,
   "layerName": "Wind Turbine Avoidance Zone (existing)",
   "serviceItemId": "ca228a32d5f14e4a9dba0431ea8eb505"
  },
  {
   "id": 6,
   "name": "Wind Turbine Avoidance Zone (projected)",
   "parentLayerId": -1,
   "defaultVisibility": true,
   "subLayerIds": null,
   "minScale": 300000,
   "maxScale": 0,
   "type": "Feature Layer",
   "geometryType": "esriGeometryPolygon",
   "supportsDynamicLegends": true,
   "legend": [
    {
     "label": "",
     "imageData": "iVBORw0KGgoAAAANSUhEUgAAABQAAAAUCAYAAACNiR0NAAAACXBIWXMAAA7EAAAOxAGVKw4bAAAAVUlEQVQ4jWN55s2wgIFK4D8jwwMWBgYGBkZG6hj6n4HBgYUaBiEDFAMltzAcIMeQ5z4MDlgNpAYYNXDUwFEDh6GByKUGVQykBmD5z8jw4D8D5S6DAQCilQ11VocMBQAAAABJRU5ErkJggg==",
     "contentType": "image/png",
     "groupId": "0",
     "height": 20,
     "width": 20,
     "layerId": 6,
     "layerName": "Wind Turbine Avoidance Zone (projected)"
    }
   ],
   "layerId": 6,
   "layerName": "Wind Turbine Avoidance Zone (projected)",
   "serviceItemId": "ca228a32d5f14e4a9dba0431ea8eb505"
  },
  {
   "id": 7,
   "name": "Wind Turbine Clusters (existing)",
   "parentLayerId": -1,
   "defaultVisibility": true,
   "subLayerIds": null,
   "minScale": 0,
   "maxScale": 300000,
   "type": "Feature Layer",
   "geometryType": "esriGeometryPolygon",
   "supportsDynamicLegends": true,
   "legend": [
    {
     "label": "Large turbine clusters",
     "imageData": "iVBORw0KGgoAAAANSUhEUgAAABQAAAAUCAYAAACNiR0NAAAACXBIWXMAAA7EAAAOxAGVKw4bAAABeUlEQVQ4jdXUO08UURyG8ec9DHEDhEuwAhsTEy/b8QloSVYaAyUhoSKxAkJhYUYbAyiNnb2NEwol1hZG4wdQKwtJ6AyuazALunNeC4yw2YsbdhufaubkP79zTjPJSGnzLc0SyCpKVrTegxEUQRh/aPHJQXLyoDt/V0MQeIroIex3liSpjAhEBoFYN1+XV5OzrxFNhjxfcqAg8cTSBUzskysxsox8Detjc+ykU9BxMQQVsR9UCpefk83FsdLWG0Tl6+76DHPPdsaqn18brstcKr9cewoywGhpa7oRDH17/YXD21+y9PDPDqrbOpvPXdo8BvYsjZPeEyluc0K/OsUauzi7MVEzQ5haEvKMNI3tr/yP8lwPJW6AqZnHwK2uwMGBZOkHP5cBBo6Ofn1rMdcxuJ+tVIEqQLnNXMdgp7UEx28+uhphxNA/PLt95fuLlU9dgZF43zAJEJzfBRa6As9bS7C8uz7fU/C8/Wfg2b9GT8BelAgOwKu9An8DeI6E+cCx3nIAAAAASUVORK5CYII=",
     "contentType": "image/png",
     "groupId": "0",
     "height": 20,
     "width": 20,
     "values": [
      "cluster_large"
     ],
     "layerId": 7,
     "layerName": "Wind Turbine Clusters (existing)"
    },
    {
     "label": "Small turbine clusters",
     "imageData": "iVBORw0KGgoAAAANSUhEUgAAABQAAAAUCAYAAACNiR0NAAAACXBIWXMAAA7EAAAOxAGVKw4bAAABa0lEQVQ4je3RsUtbURTH8e95eYomxSTopJMgFJyc3Bx0K8YMioIgLk6uWoOTPEUQjcnSv0FB32Sis4IIDgHHLh0U3CxNtC2x+u47XVzUXAnGwcHfePndD+ee62KL5zmJUvRIBKdcXBgA0URq4xCEyv7CoO2aWwuKn8WGKElCMNuISHwkOwrZCCEOQmgd4inYls73RErBqorGHDGLRqRViJiIw08NTQ6hX5HTusBEat1Dg2FVXau0du/hj4fJVPYEMde/CpkvjO9OJqvnx0Bfcjg7VT74ugWiVlBxvze3/N688r0/DyfyqOlPGE1t/AMuVKQdb1nwsIPX+/M7Lz2lI73eGSifUALXMT6eV3OXzz/FEmNkU4ReUALlGzDWEBiLujN/uZsFiN7e3lcsvbrBS3+uClQByi/06gbrjRVsH8l9DiGu0NSWzvfcFOZ+NASGhCsKXQCOmiVguiHwtbGC5WJm4k3B1+YDfIfgfxFAeqN4lvs6AAAAAElFTkSuQmCC",
     "contentType": "image/png",
     "groupId": "0",
     "height": 20,
     "width": 20,
     "values": [
      "cluster_small"
     ],
     "layerId": 7,
     "layerName": "Wind Turbine Clusters (existing)"
    },
    {
     "label": "Single turbine",
     "imageData": "iVBORw0KGgoAAAANSUhEUgAAABQAAAAUCAYAAACNiR0NAAAACXBIWXMAAA7EAAAOxAGVKw4bAAABIklEQVQ4jWNhwA0YBby69P8zMagzMDDyMTL8k/r/j+EYAzMj30fjb+sZGhr+YdPEgk1Q3K1b7Cfb/yoGhv/GTP8Zq5iZ/134y8DEzvT337t//xn7Bc5wBbL4dZa92VT+jKCBAj7diT8ZGHIZmRhm83/6XvHgQMMPAZ+ujQwM/yXeby83ZwhdFSH47WHkn/+MWwR9u7rfby5bjtdAxv8M31mZf3m+2lT98j1MjIGB8T9Mweqwv+8ZGJYI+7Ts/8vAkUjQhe+3lq7AFgzo4O2WmqcMDAwtBA2kFAwDA/l9uxUZ/jMIMzL+5xf2bdN4u7nqBkUGMjAwlPxn/K/NwMDA8Pc/SxcDA4MfpQaSBAga+HFzaTYDA0M21QwkFYwaOGogGQAAnKdcO61wnO8AAAAASUVORK5CYII=",
     "contentType": "image/png",
     "groupId": "0",
     "height": 20,
     "width": 20,
     "values": [
      "single"
     ],
     "layerId": 7,
     "layerName": "Wind Turbine Clusters (existing)"
    }
   ],
   "layerId": 7,
   "layerName": "Wind Turbine Clusters (existing)",
   "serviceItemId": "ca228a32d5f14e4a9dba0431ea8eb505"
  },
  {
   "id": 8,
   "name": "Wind Turbine Clusters (projected)",
   "parentLayerId": -1,
   "defaultVisibility": true,
   "subLayerIds": null,
   "minScale": 0,
   "maxScale": 300000,
   "type": "Feature Layer",
   "geometryType": "esriGeometryPolygon",
   "supportsDynamicLegends": true,
   "legend": [
    {
     "label": "Single turbine",
     "imageData": "iVBORw0KGgoAAAANSUhEUgAAABQAAAAUCAYAAACNiR0NAAAACXBIWXMAAA7EAAAOxAGVKw4bAAABCUlEQVQ4je3QIUsDYRjA8f9zdygYZhBk7lSYZYLBsLBvICh3A4OgcXnYRGRpwaTBD2AVFAzD3cSoyWQwGkzqdq4YDLohd49Nhtw85plk//TywvvjeV6L/snTCotikBNIKWQIuRaT1FSemlQJox5ZUZf3S0yOjVBRyItSUZNbC0Y/Al4M5aB9w+pDke3ZOq1Y0HcoKWyKwWH3lZ3sFR3f4SyA9PQFBV1j3X9jw1IaTZd92+P4RzBU3rsmy3N12r3rfx1OCYCjR4dLE0qxE9rnnER9w/dmGjSB3Vgwaf8AfHbJhsoEwnjLZT7jcZcIDGBLhAUAVfaAYiJw0GJB26MMlP8MHLQhOAR/0Se5PUby5oTwWwAAAABJRU5ErkJggg==",
     "contentType": "image/png",
     "groupId": "0",
     "height": 20,
     "width": 20,
     "values": [
      "single"
     ],
     "layerId": 8,
     "layerName": "Wind Turbine Clusters (projected)"
    },
    {
     "label": "Large turbine clusters",
     "imageData": "iVBORw0KGgoAAAANSUhEUgAAABQAAAAUCAYAAACNiR0NAAAACXBIWXMAAA7EAAAOxAGVKw4bAAABVElEQVQ4jdXUPWtUQRSA4edMVlw1YCGIJrET/NjOX2ArrGlESxFSBezSWchiY2NnZ2+1WGiwthDFH6BWNhFMRAghIKwa7xybaBLcNSHZxredMw9nbnFbn7peG1IJpE6GyPQWgg4k74bdwWoLCne2JFG4VKvJTG+EKGFNKLU6FtQd89uqLLR2bMV005irRVt4JByWahPWSzUvnJfej9gObIHpVlN0pPun2p7qq8tdryKszyy6ktc9+TzwMrmQaeb0c4+DhJWuy3+DxdJa2+1O39fN7xTF5g1EX7Pc9R1LJZzQE3p/jodu+OI3NqyPs6akSennRNGPnvrvJ+/SROOBcBE20kNcOxBYj5r7wTwc+WZj1NyewTN9Awx2m9szuNdGgitXncNxHPoy6+zJZz4cCMQ9TEOT7uLmQcF9NRKcWnRjrOB++8/A7X+NsYDjqIXVysK4wF88DWdAwLC2vQAAAABJRU5ErkJggg==",
     "contentType": "image/png",
     "groupId": "0",
     "height": 20,
     "width": 20,
     "values": [
      "cluster_large"
     ],
     "layerId": 8,
     "layerName": "Wind Turbine Clusters (projected)"
    },
    {
     "label": "Small turbine clusters",
     "imageData": "iVBORw0KGgoAAAANSUhEUgAAABQAAAAUCAYAAACNiR0NAAAACXBIWXMAAA7EAAAOxAGVKw4bAAABRklEQVQ4je3RMWtTURiA4ee7qWC0oCBIG3ErCHVxcnPQTZpmqCgI4uLUf+Akl1LoUid/g4LcybbOCqXQIdCxi4sdcksRQRCiprnHUbC9NTQODr7j4fseOOdMqCnlsrLrvZBNr7sVpF7bO2htuF23N/H7QZ7LFnfc2e+6iFcRopy3UNJIlUyo6rAj4EHHzKBruQrnhadCs2Io80nleQo3g+2RwLItP0zmIlmZanqjUPXatiJ8aa25m+57uN+3mbjRm/No+q2XQaoFg93PZ61eL3yFRGR+bURh2Gv7jo9ZuCQX8hPAqQ2vT7rKXkdLMik5bGSKyI9/yyOfUldjaFWYhUHyAvfGAqtznvxgEZrfDOrmRgavFvro/2luZHDUasFy3jVcwJmDjpnLaz6MBWIJV2CYPMPjccFTVQu21j34q+Bp+w/+g+BPQaNeyVLt9+wAAAAASUVORK5CYII=",
     "contentType": "image/png",
     "groupId": "0",
     "height": 20,
     "width": 20,
     "values": [
      "cluster_small"
     ],
     "layerId": 8,
     "layerName": "Wind Turbine Clusters (projected)"
    }
   ],
   "layerId": 8,
   "layerName": "Wind Turbine Clusters (projected)",
   "serviceItemId": "ca228a32d5f14e4a9dba0431ea8eb505"
  }
 ],
 "initialExtent": {
  "xmin": -1.1256963270545393E7,
  "ymin": 3993349.6972365747,
  "xmax": -1.07818163898771E7,
  "ymax": 4322144.992790845,
  "spatialReference": {
   "wkid": 102100,
   "latestWkid": 3857,
   "xyTolerance": 0.001,
   "zTolerance": 0.001,
   "mTolerance": 0.001,
   "falseX": -20037700,
   "falseY": -30241100,
   "xyUnits": 10000,
   "falseZ": -100000,
   "zUnits": 10000,
   "falseM": -100000,
   "mUnits": 10000
  }
 },
 "fullExtent": {
  "xmin": -1.206945501370033E7,
  "ymin": 2854169.3717254368,
  "xmax": -1.0209637561259313E7,
  "ymax": 4829492.91106171,
  "spatialReference": {
   "wkid": 102100,
   "latestWkid": 3857,
   "xyTolerance": 0.001,
   "zTolerance": 0.001,
   "mTolerance": 0.001,
   "falseX": -20037700,
   "falseY": -30241100,
   "xyUnits": 10000,
   "falseZ": -100000,
   "zUnits": 10000,
   "falseM": -100000,
   "mUnits": 10000
  }
 },
 "minScale": 0,
 "maxScale": 0,
 "exportTilesAllowed": false,
 "maxExportTilesCount": 0,
 "currentVersion": 11.5,
 "mapName": "obstaclesCartographicLayer",
 "singleFusedMapCache": true,
 "type": "MapServer",
 "supportedExtensions": "",
 "capabilities": "TilesOnly,Tilemap",
 "serviceItemId": "ca228a32d5f14e4a9dba0431ea8eb505"
}
