{
 "version": 1.0,
 "tileBundlesPath": "./tile",
 "storageInfo": {
  "packetSize": 128,
  "storageFormat": "esriMapCacheStorageModeCompactV2"
 },
 "tileImageInfo": {
  "format": "PNG32",
  "compressionQuality": 0,
  "bandCount": 1,
  "lercError": 0
 },
 "tileInfo": {
  "spatialReference": {
   "wkid": 102100,
   "latestWkid": 3857
  },
  "origin": {
   "x": -2.0037508342787E7,
   "y": 2.0037508342787E7
  },
  "rows": 256,
  "cols": 256,
  "dpi": 96,
  "lods": [
   {
    "level": 0,
    "resolution": 156543.033928,
    "scale": 5.91657527591555E8
   },
   {
    "level": 1,
    "resolution": 78271.5169639999,
    "scale": 2.95828763795777E8
   },
   {
    "level": 2,
    "resolution": 39135.7584820001,
    "scale": 1.47914381897889E8
   },
   {
    "level": 3,
    "resolution": 19567.8792409999,
    "scale": 7.3957190948944E7
   },
   {
    "level": 4,
    "resolution": 9783.93962049996,
    "scale": 3.6978595474472E7
   },
   {
    "level": 5,
    "resolution": 4891.96981024998,
    "scale": 1.8489297737236E7
   },
   {
    "level": 6,
    "resolution": 2445.98490512499,
    "scale": 9244648.868618
   },
   {
    "level": 7,
    "resolution": 1222.99245256249,
    "scale": 4622324.434309
   },
   {
    "level": 8,
    "resolution": 611.49622628138,
    "scale": 2311162.217155
   },
   {
    "level": 9,
    "resolution": 305.748113140558,
    "scale": 1155581.108577
   },
   {
    "level": 10,
    "resolution": 152.874056570411,
    "scale": 577790.554289
   },
   {
    "level": 11,
    "resolution": 76.4370282850732,
    "scale": 288895.277144
   },
   {
    "level": 12,
    "resolution": 38.2185141425366,
    "scale": 144447.638572
   },
   {
    "level": 13,
    "resolution": 19.1092570712683,
    "scale": 72223.819286
   },
   {
    "level": 14,
    "resolution": 9.55462853563415,
    "scale": 36111.909643
   },
   {
    "level": 15,
    "resolution": 4.77731426794937,
    "scale": 18055.954822
   },
   {
    "level": 16,
    "resolution": 2.38865713397468,
    "scale": 9027.977411
   },
   {
    "level": 17,
    "resolution": 1.19432856685505,
    "scale": 4513.988705
   },
   {
    "level": 18,
    "resolution": 0.597164283559817,
    "scale": 2256.994353
   },
   {
    "level": 19,
    "resolution": 0.298582141647617,
    "scale": 1128.497176
   },
   {
    "level": 20,
    "resolution": 0.14929107082380833,
    "scale": 564.248588
   },
   {
    "level": 21,
    "resolution": 0.07464553541190416,
    "scale": 282.124294
   },
   {
    "level": 22,
    "resolution": 0.03732276770595208,
    "scale": 141.062147
   },
   {
    "level": 23,
    "resolution": 0.01866138385297604,
    "scale": 70.5310735
   }
  ],
  "format": "PNG32",
  "compressionQuality": 0,
  "bandCount": 1,
  "lercError": 0,
  "storageFormat": "esriMapCacheStorageModeCompactV2",
  "packetSize": 128
 },
 "name": "turbineCartographicLayer",
 "serviceDescription": "",
 "spatialReference": {
  "wkid": 102100,
  "latestWkid": 3857,
  "xyTolerance": 0.001,
  "zTolerance": 0.001,
  "mTolerance": 0.001,
  "falseX": -20037700,
  "falseY": -30241100,
  "xyUnits": 10000,
  "falseZ": -100000,
  "zUnits": 10000,
  "falseM": -100000,
  "mUnits": 10000
 },
 "units": "esriMeters",
 "minLOD": 0,
 "maxLOD": 13,
 "resampling": true,
 "layers": [
  {
   "id": 0,
   "name": "Wind Turbine Locations (existing)",
   "parentLayerId": -1,
   "defaultVisibility": true,
   "subLayerIds": null,
   "minScale": 300000,
   "maxScale": 0,
   "type": "Feature Layer",
   "geometryType": "esriGeometryPoint",
   "supportsDynamicLegends": true,
   "legend": [
    {
     "label": "",
     "imageData": "iVBORw0KGgoAAAANSUhEUgAAABQAAAAUCAYAAACNiR0NAAAACXBIWXMAAA7EAAAOxAGVKw4bAAAB2ElEQVQ4jc3Tv2uTYRAH8O/d88Tk7Q/SNtoGWlxcQhFUpB3EQUEsDYgVrAj+Dy4VB6dncrBiwcWpRYo46OAQilgQMwhOrToouIiKiFbbpolJE988d44l0uaNJaDf8eHuw3NwZxGRfdkb6V8xPk4iXYXc1btR9TaqQK0yiQ9IKIiqbQkEADARoNQ+8C/SGiiqENK2gD6uZQnpHXtJtAUkT93saRjMBOeewznZFTg0eStYK272+BpnmHUUpKZ3KfFUJ2a4UNj4jLyrtwaecLYvCNKlis9Ya/YSS1XAeRIJyGM/EB7pTiaWzMTM28LhjeKfP24Au85N99sqD6qVUYJkSPmDUX0hRCmwliiMfVT1Y0b4Irj+rOdV8qU/c/NnKXflx7agrWtWWUYAWbUi9w6Wa6+XOzqPGiOXVbm8vjh1HpMPXF/l0ymBXmKEB6BYATC/LWiEiwK9E2Dz/ZcFV8kDSGWn0TDTwwt+DXiSHr++XIvFxhSc3nHk1YWpRwBhHYjcua+Pr30H3H04ALkdQKC15d2KE7jGl390ev8vOH47rqj2QtFJRDpw2vV/W3QruwaT8eqQeDoG1UFAy+GexFk4N9vsnpuCRs2AqD8EQkoVHZ74JN4MzzXr+Q2id7/N20xqQAAAAABJRU5ErkJggg==",
     "contentType": "image/png",
     "groupId": "0",
     "height": 20,
     "width": 20,
     "layerId": 0,
     "layerName": "Wind Turbine Locations (existing)"
    }
   ],
   "layerId": 0,
   "layerName": "Wind Turbine Locations (existing)",
   "serviceItemId": "83111bdb6f6443d4860dc402b21aca0e"
  },
  {
   "id": 1,
   "name": "Wind Turbine Locations (projected)",
   "parentLayerId": -1,
   "defaultVisibility": true,
   "subLayerIds": null,
   "minScale": 300000,
   "maxScale": 0,
   "type": "Feature Layer",
   "geometryType": "esriGeometryPoint",
   "supportsDynamicLegends": true,
   "legend": [
    {
     "label": "",
     "imageData": "iVBORw0KGgoAAAANSUhEUgAAABQAAAAUCAYAAACNiR0NAAAACXBIWXMAAA7EAAAOxAGVKw4bAAABqElEQVQ4jc3TQUuUURTG8f+58+r0zigqhs2kSGDC0CYjdREuCiJxIDJIEPoOfYXut2hVSEQbFy0GiYTIheDKyoVCFFlUzvRWEFMzKDP3nrZN6LyTDOizvDz3x71wTkBMtvNk0h1MOU9XtsBCXD+IK3QFmJonFE8Y120JBBCDANI28H/SEqgeFY+2BUwkqdRrvFHHibaAVUd3wnFODaKWVbH4Q4Gf5ghdmV7ZI6eGSRESxXWeF2cxmZ98lhXqLYF6meBLSEaq5EzASTHsCqzgCdUxLHAh6mF9e5atM2OU/31xA1i6ycDOLoMmYBLIoXwQZQ2hH8MvrfERZVo980nDi9JrXu1c5/fpAt/3BbVOHsME8APPo2yFja8pLvoEd7xSGVrmls5hi1WuAreBEVEi4OH+oKfs4F4E78eXqAKU8o0TLYs44NnbGV6mO5gWyBz45ewSTwCGiZ+50ad8s/D4rgUKB4DSAvR3LHhrG8+OZvWOL6gzJIvQh5I2gr67xsDZZaJDg1GSIRyXUAYFKqlObqjlfrN9bgrWlVMo50XoVyWFcIVNHjS78wfCmpFg99iNzQAAAABJRU5ErkJggg==",
     "contentType": "image/png",
     "groupId": "0",
     "height": 20,
     "width": 20,
     "layerId": 1,
     "layerName": "Wind Turbine Locations (projected)"
    }
   ],
   "layerId": 1,
   "layerName": "Wind Turbine Locations (projected)",
   "serviceItemId": "83111bdb6f6443d4860dc402b21aca0e"
  },
  {
   "id": 2,
   "name": "Wind Turbine Avoidance Zone (existing)",
   "parentLayerId": -1,
   "defaultVisibility": true,
   "subLayerIds": null,
   "minScale": 300000,
   "maxScale": 0,
   "type": "Feature Layer",
   "geometryType": "esriGeometryPolygon",
   "supportsDynamicLegends": true,
   "legend": [
    {
     "label": "",
     "imageData": "iVBORw0KGgoAAAANSUhEUgAAABQAAAAUCAYAAACNiR0NAAAACXBIWXMAAA7EAAAOxAGVKw4bAAAAT0lEQVQ4jWMR8O5cwEAtwMjwgAXCYKKSof8cWKhjEAKgGPhhS+kBcgwR8Ol2wGogNcCogaMGjho4DA1ELjWoYiA1AAsDI8MDBoZ/DtQyEACC+AvdxQvm3gAAAABJRU5ErkJggg==",
     "contentType": "image/png",
     "groupId": "0",
     "height": 20,
     "width": 20,
     "layerId": 2,
     "layerName": "Wind Turbine Avoidance Zone (existing)"
    }
   ],
   "layerId": 2,
   "layerName": "Wind Turbine Avoidance Zone (existing)",
   "serviceItemId": "83111bdb6f6443d4860dc402b21aca0e"
  },
  {
   "id": 3,
   "name": "Wind Turbine Avoidance Zone (projected)",
   "parentLayerId": -1,
   "defaultVisibility": true,
   "subLayerIds": null,
   "minScale": 300000,
   "maxScale": 0,
   "type": "Feature Layer",
   "geometryType": "esriGeometryPolygon",
   "supportsDynamicLegends": true,
   "legend": [
    {
     "label": "",
     "imageData": "iVBORw0KGgoAAAANSUhEUgAAABQAAAAUCAYAAACNiR0NAAAACXBIWXMAAA7EAAAOxAGVKw4bAAAAVUlEQVQ4jWN55s2wgIFK4D8jwwMWBgYGBkZG6hj6n4HBgYUaBiEDFAMltzAcIMeQ5z4MDlgNpAYYNXDUwFEDh6GByKUGVQykBmD5z8jw4D8D5S6DAQCilQ11VocMBQAAAABJRU5ErkJggg==",
     "contentType": "image/png",
     "groupId": "0",
     "height": 20,
     "width": 20,
     "layerId": 3,
     "layerName": "Wind Turbine Avoidance Zone (projected)"
    }
   ],
   "layerId": 3,
   "layerName": "Wind Turbine Avoidance Zone (projected)",
   "serviceItemId": "83111bdb6f6443d4860dc402b21aca0e"
  },
  {
   "id": 4,
   "name": "Wind Turbine Clusters (existing)",
   "parentLayerId": -1,
   "defaultVisibility": true,
   "subLayerIds": null,
   "minScale": 1500000,
   "maxScale": 300000,
   "type": "Feature Layer",
   "geometryType": "esriGeometryPolygon",
   "supportsDynamicLegends": true,
   "legend": [
    {
     "label": "",
     "imageData": "iVBORw0KGgoAAAANSUhEUgAAABQAAAAUCAYAAACNiR0NAAAACXBIWXMAAA7EAAAOxAGVKw4bAAAA1UlEQVQ4je2UoW7CYBSFv9P+2UQRvAJvMUWCJw3vsFcYeiWZWtF7kDE3syB4CczcbAVzpWdizSihCSNUIPjMzT3/PZ/8Q3/8bGq2EhUioiL+S2ErECLyLiwlDARAjTz8DmX1PozwOra+aGAxwRSgj13RUYnuKpHE1nt9mYVmMTZL/otVBVjh/XhPWLxNZ23dJM0HiM9i0f7eH+ePrcIuuAoP6aX5i83IYtNL5+Xm9eHpLKHNPXCDwTgFzhN+L6a3x25OEp7KVXjpwuav0YmwC2qhs66EPx29P7Mdyx+jAAAAAElFTkSuQmCC",
     "contentType": "image/png",
     "groupId": "0",
     "height": 20,
     "width": 20,
     "layerId": 4,
     "layerName": "Wind Turbine Clusters (existing)"
    }
   ],
   "layerId": 4,
   "layerName": "Wind Turbine Clusters (existing)",
   "serviceItemId": "83111bdb6f6443d4860dc402b21aca0e"
  },
  {
   "id": 5,
   "name": "Wind Turbine Clusters (projected)",
   "parentLayerId": -1,
   "defaultVisibility": true,
   "subLayerIds": null,
   "minScale": 1500000,
   "maxScale": 300000,
   "type": "Feature Layer",
   "geometryType": "esriGeometryPolygon",
   "supportsDynamicLegends": true,
   "legend": [
    {
     "label": "",
     "imageData": "iVBORw0KGgoAAAANSUhEUgAAABQAAAAUCAYAAACNiR0NAAAACXBIWXMAAA7EAAAOxAGVKw4bAAAAw0lEQVQ4je2Uvw7BYBRHz5VuIgaDRCebpAvPoTV7h65mwugdPEXjCTyDxGhRdjHqNfTTNBRp+g0iznb/nfym68Q+ikEgLcQ0skkBUjx3AFRZmCUPYa8Jl4fbMUJdlVXWUxpSow+QJGwARJg6+UNVtm9T5XfhrEb0lPCOu2ZWdHz0GSi0X80PQ+aFQhv8gPAU0E2UFkIzDuh1InaVhGX5KLzCRAQPQJUlMKokdCNCILSWsCx/4bcL81/DitAGDqSf1pbwBuplMYyfStWZAAAAAElFTkSuQmCC",
     "contentType": "image/png",
     "groupId": "0",
     "height": 20,
     "width": 20,
     "layerId": 5,
     "layerName": "Wind Turbine Clusters (projected)"
    }
   ],
   "layerId": 5,
   "layerName": "Wind Turbine Clusters (projected)",
   "serviceItemId": "83111bdb6f6443d4860dc402b21aca0e"
  },
  {
   "id": 6,
   "name": "Wind Turbine Clusters (existing)",
   "parentLayerId": -1,
   "defaultVisibility": true,
   "subLayerIds": null,
   "minScale": 0,
   "maxScale": 1500000,
   "type": "Feature Layer",
   "geometryType": "esriGeometryPolygon",
   "supportsDynamicLegends": true,
   "legend": [
    {
     "label": "",
     "imageData": "iVBORw0KGgoAAAANSUhEUgAAABQAAAAUCAYAAACNiR0NAAAACXBIWXMAAA7EAAAOxAGVKw4bAAAASElEQVQ4jWMR8On6z0BFwAKhGBuoY9z/BhbqGIQAKAZ+2FLaSI4hAj7d9VgNpAYYNXDUwFEDh6GByKUGVQykBoAa+L+BWgYCAD2yCxtP7GouAAAAAElFTkSuQmCC",
     "contentType": "image/png",
     "groupId": "0",
     "height": 20,
     "width": 20,
     "layerId": 6,
     "layerName": "Wind Turbine Clusters (existing)"
    }
   ],
   "layerId": 6,
   "layerName": "Wind Turbine Clusters (existing)",
   "serviceItemId": "83111bdb6f6443d4860dc402b21aca0e"
  },
  {
   "id": 7,
   "name": "Wind Turbine Clusters (projected)",
   "parentLayerId": -1,
   "defaultVisibility": true,
   "subLayerIds": null,
   "minScale": 0,
   "maxScale": 1500000,
   "type": "Feature Layer",
   "geometryType": "esriGeometryPolygon",
   "supportsDynamicLegends": true,
   "legend": [
    {
     "label": "",
     "imageData": "iVBORw0KGgoAAAANSUhEUgAAABQAAAAUCAYAAACNiR0NAAAACXBIWXMAAA7EAAAOxAGVKw4bAAAAUElEQVQ4jWN55sPwn4GKgIWBgYHh/3+GJmoYxsjIUMdCDYOQAYqB0lsZ6skx5Kk3QyNWA6kBRg0cNXDUwGFoIHKpQRUDqQFYGBggJS21DAQA/poKs1DKpdAAAAAASUVORK5CYII=",
     "contentType": "image/png",
     "groupId": "0",
     "height": 20,
     "width": 20,
     "layerId": 7,
     "layerName": "Wind Turbine Clusters (projected)"
    }
   ],
   "layerId": 7,
   "layerName": "Wind Turbine Clusters (projected)",
   "serviceItemId": "83111bdb6f6443d4860dc402b21aca0e"
  }
 ],
 "initialExtent": {
  "xmin": -1.123080878265593E7,
  "ymin": 3726306.478295284,
  "xmax": -1.1164451149940664E7,
  "ymax": 3770174.4826979595,
  "spatialReference": {
   "wkid": 102100,
   "latestWkid": 3857,
   "xyTolerance": 0.001,
   "zTolerance": 0.001,
   "mTolerance": 0.001,
   "falseX": -20037700,
   "falseY": -30241100,
   "xyUnits": 10000,
   "falseZ": -100000,
   "zUnits": 10000,
   "falseM": -100000,
   "mUnits": 10000
  }
 },
 "fullExtent": {
  "xmin": -1.2255008218600001E7,
  "ymin": 2986323.3999000005,
  "xmax": -1.02138202607E7,
  "ymax": 4752557.305799998,
  "spatialReference": {
   "wkid": 102100,
   "latestWkid": 3857,
   "xyTolerance": 0.001,
   "zTolerance": 0.001,
   "mTolerance": 0.001,
   "falseX": -20037700,
   "falseY": -30241100,
   "xyUnits": 10000,
   "falseZ": -100000,
   "zUnits": 10000,
   "falseM": -100000,
   "mUnits": 10000
  }
 },
 "minScale": 0,
 "maxScale": 0,
 "exportTilesAllowed": false,
 "maxExportTilesCount": 0,
 "currentVersion": 11.5,
 "mapName": "turbineCartographicLayer",
 "singleFusedMapCache": true,
 "type": "MapServer",
 "supportedExtensions": "",
 "capabilities": "TilesOnly,Tilemap",
 "serviceItemId": "83111bdb6f6443d4860dc402b21aca0e"
}
