View In:
ArcGIS JavaScript
ArcGIS Online Map Viewer
ArcGIS Earth
Service Description: SDM_Composite_Test
Name: SDM_Composite_Test
Description:
Single Fused Map Cache: false
Extent:
XMin: -106.64564598199996
YMin: 25.837163964000066
XMax: -93.50397931533327
YMax: 36.503830630666755
Spatial Reference: 4326
(4326)
LatestVCSWkid(0)
Initial Extent:
XMin: -106.64564598199996
YMin: 25.837163964000066
XMax: -93.50397931533327
YMax: 36.503830630666755
Spatial Reference: 4326
(4326)
LatestVCSWkid(0)
Full Extent:
XMin: -106.64564598199996
YMin: 25.837163964000066
XMax: -93.50397931533327
YMax: 36.503830630666755
Spatial Reference: 4326
(4326)
LatestVCSWkid(0)
Pixel Size X: 0.00833333333333335
Pixel Size Y: 0.00833333333333335
Band Count: 3
Pixel Type: F32
RasterFunction Infos: {"rasterFunctionInfos": [{
"name": "None",
"description": "",
"help": ""
}]}
Mensuration Capabilities: Basic
Inspection Capabilities:
Has Histograms: true
Has Colormap: false
Has Multi Dimensions : false
Rendering Rule:
Min Scale: 0
Max Scale: 0
Copyright Text:
Service Data Type: esriImageServiceDataTypeGeneric
Min Values: 0, 0, 0
Max Values: 0.96805083751678, 0.93783622980118, 0.95027005672455
Mean Values: 0.056229968206271, 0.016812709359143, 0.05683744903432
Standard Deviation Values: 0.13365802830768, 0.072183730492068, 0.13779487198534
Object ID Field:
Fields:
None
Default Mosaic Method: Center
Allowed Mosaic Methods:
SortField:
SortValue: null
Mosaic Operator: First
Default Compression Quality: 75
Default Resampling Method: Bilinear
Max Record Count: null
Max Image Height: 4100
Max Image Width: 15000
Max Download Image Count: null
Max Mosaic Image Count: null
Allow Raster Function: true
Allow Copy: true
Allow Analysis: true
Allow Compute TiePoints: false
Supports Statistics: false
Supports Advanced Queries: false
Use StandardizedQueries: true
Raster Type Infos:
Name: Raster Dataset
Description: Supports all ArcGIS Raster Datasets
Help:
Has Raster Attribute Table: false
Edit Fields Info: null
Ownership Based AccessControl For Rasters: null
Child Resources:
Info
Histograms
Statistics
Key Properties
Legend
Raster Function Infos
Supported Operations:
Export Image
Identify
Measure
Compute Histograms
Compute Statistics Histograms
Get Samples
Compute Class Statistics
Query Boundary
Compute Pixel Location
Compute Angles
Validate
Project